BEGIN:VCALENDAR
VERSION:2.0
BEGIN:VEVENT
URL:https://miamimarketta.oztix.com.au/outlet/event/d4ec2f83-1f24-4d87-b64d-a873b8befb4c
DTSTART:20260506T080000Z
DTEND:20260506T080000Z
SUMMARY:LIFE DRAWING SESSIONS | May 6
DESCRIPTION:Event details: https://miamimarketta.oztix.com.au/outlet/event/d4ec2f83-1f24-4d87-b64d-a873b8befb4c
LOCATION:Miami Marketta, Gold Coast (Miami, QLD)
END:VEVENT
END:VCALENDAR