BEGIN:VCALENDAR
VERSION:2.0
BEGIN:VEVENT
URL:https://miamimarketta.oztix.com.au/outlet/event/d38aafc9-cbbd-49fe-aaef-38185433e48d
DTSTART:20260612T083000Z
DTEND:20260612T083000Z
SUMMARY:Viva El Reggaetón
DESCRIPTION:Event details: https://miamimarketta.oztix.com.au/outlet/event/d38aafc9-cbbd-49fe-aaef-38185433e48d
LOCATION:Miami Marketta, Gold Coast (Miami, QLD)
END:VEVENT
END:VCALENDAR