BEGIN:VCALENDAR
VERSION:2.0
BEGIN:VEVENT
URL:https://miamimarketta.oztix.com.au/outlet/event/8f91dee3-c4eb-41be-b5a3-d6013a53ba2d
DTSTART:20260604T083000Z
DTEND:20260604T083000Z
SUMMARY:Drag Paint and Sip - Ride 'Em Cowboy
DESCRIPTION:Event details: https://miamimarketta.oztix.com.au/outlet/event/8f91dee3-c4eb-41be-b5a3-d6013a53ba2d
LOCATION:Miami Marketta, Gold Coast (Miami, QLD)
END:VEVENT
END:VCALENDAR